BEGIN:VCALENDAR
VERSION:2.0
PRODID:-//VivantS - ECPv5.3.2.1//NONSGML v1.0//EN
CALSCALE:GREGORIAN
METHOD:PUBLISH
X-WR-CALNAME:VivantS
X-ORIGINAL-URL:http://vivants.org
X-WR-CALDESC:évènements pour VivantS
BEGIN:VTIMEZONE
TZID:Europe/Paris
BEGIN:DAYLIGHT
TZOFFSETFROM:+0100
TZOFFSETTO:+0200
TZNAME:CEST
DTSTART:20190331T010000
END:DAYLIGHT
BEGIN:STANDARD
TZOFFSETFROM:+0200
TZOFFSETTO:+0100
TZNAME:CET
DTSTART:20191027T010000
END:STANDARD
END:VTIMEZONE
BEGIN:VEVENT
DTSTART;TZID=Europe/Paris:20190817T210000
DTEND;TZID=Europe/Paris:20190817T233000
DTSTAMP:20260425T131910
CREATED:20190517T163103Z
LAST-MODIFIED:20190517T163103Z
UID:2837-1566075600-1566084600@vivants.org
SUMMARY:Babette
DESCRIPTION:Babette nous parle\, elle parle\, avec cette nécessité impérieuse\, vitale\, de dire cette journée\, de lâcher son trop plein de malheurs\, comme « un renvoi de bile dans le mouchoir »\, avec une implacable lucidité. De cette femme «ordinaire» surgit une étrangeté troublante.\ntexte : Philippe Minyana\nmise en scène : Jacques David\njeu : Dominique Jacquet\ncomposition sonore : Christophe Séchet\ncréation lumière : Laurent Nennig\nscénographie : Jean-Luc Taillefer\ncostumes : Agnès Mariller
URL:http://vivants.org/evenement/babette/
LOCATION:LE PLATEAU SEPT\, Montselgues\, France
CATEGORIES:Théâtre
END:VEVENT
END:VCALENDAR