BEGIN:VCALENDAR
VERSION:2.0
PRODID:-//VivantS - ECPv5.3.2.1//NONSGML v1.0//EN
CALSCALE:GREGORIAN
METHOD:PUBLISH
X-WR-CALNAME:VivantS
X-ORIGINAL-URL:http://vivants.org
X-WR-CALDESC:évènements pour VivantS
BEGIN:VTIMEZONE
TZID:Europe/Paris
BEGIN:DAYLIGHT
TZOFFSETFROM:+0100
TZOFFSETTO:+0200
TZNAME:CEST
DTSTART:20190331T010000
END:DAYLIGHT
BEGIN:STANDARD
TZOFFSETFROM:+0200
TZOFFSETTO:+0100
TZNAME:CET
DTSTART:20191027T010000
END:STANDARD
END:VTIMEZONE
BEGIN:VEVENT
DTSTART;TZID=Europe/Paris:20190710T210000
DTEND;TZID=Europe/Paris:20190710T233000
DTSTAMP:20260425T221431
CREATED:20190515T113739Z
LAST-MODIFIED:20190515T113739Z
UID:2810-1562792400-1562801400@vivants.org
SUMMARY:Bocal uP
DESCRIPTION:Avec une voix posée sur des textes en espagnol\, une clarinette turque\, des percussions  indiennes\, des boucles composées avec un oud\, une basse\, Bocal uP délivre une énergie qui ne laisse pas indifférent.\nMona Ode-Martinez : voix\, textes et composition\nLaurent Nafissi : tablas\, composition\nSébastien Maignan : clarinette en sol\, oud\, basse\, machine à boucle\, composition
URL:http://vivants.org/evenement/bocal-up/
LOCATION:LE PLATEAU SEPT\, Montselgues\, France
CATEGORIES:Concert
END:VEVENT
END:VCALENDAR