BEGIN:VCALENDAR
VERSION:2.0
PRODID:-//VivantS - ECPv5.3.2.1//NONSGML v1.0//EN
CALSCALE:GREGORIAN
METHOD:PUBLISH
X-WR-CALNAME:VivantS
X-ORIGINAL-URL:http://vivants.org
X-WR-CALDESC:évènements pour VivantS
BEGIN:VTIMEZONE
TZID:Europe/Paris
BEGIN:DAYLIGHT
TZOFFSETFROM:+0100
TZOFFSETTO:+0200
TZNAME:CEST
DTSTART:20190331T010000
END:DAYLIGHT
BEGIN:STANDARD
TZOFFSETFROM:+0200
TZOFFSETTO:+0100
TZNAME:CET
DTSTART:20191027T010000
END:STANDARD
END:VTIMEZONE
BEGIN:VEVENT
DTSTART;TZID=Europe/Paris:20190807T210000
DTEND;TZID=Europe/Paris:20190807T233000
DTSTAMP:20260425T132057
CREATED:20190517T162348Z
LAST-MODIFIED:20190517T162816Z
UID:2832-1565211600-1565220600@vivants.org
SUMMARY:En attendant le troisième type
DESCRIPTION:Duo fraternel pour Clown Survivaliste. L’apocalypse est pour demain\, Riton et Jeannot l’attendent comme on attend à Pôle Emploi. En suivant leurs instructions\, nous explorons les thèmes de la patrie\, d’étranger sous le prisme de l’humour et de l’émotion.\nécriture et interprétation : Juliette et Guy Zolkau-Roussille
URL:http://vivants.org/evenement/en-attendant-le-troisieme-type/
LOCATION:LE PLATEAU SEPT\, Montselgues\, France
CATEGORIES:Clown,Spectacle jeune public,Théâtre,Théâtre burlesque
END:VEVENT
END:VCALENDAR