BEGIN:VCALENDAR
VERSION:2.0
PRODID:-//VivantS - ECPv5.3.2.1//NONSGML v1.0//EN
CALSCALE:GREGORIAN
METHOD:PUBLISH
X-WR-CALNAME:VivantS
X-ORIGINAL-URL:http://vivants.org
X-WR-CALDESC:évènements pour VivantS
BEGIN:VTIMEZONE
TZID:Europe/Paris
BEGIN:DAYLIGHT
TZOFFSETFROM:+0100
TZOFFSETTO:+0200
TZNAME:CEST
DTSTART:20190331T010000
END:DAYLIGHT
BEGIN:STANDARD
TZOFFSETFROM:+0200
TZOFFSETTO:+0100
TZNAME:CET
DTSTART:20191027T010000
END:STANDARD
END:VTIMEZONE
BEGIN:VEVENT
DTSTART;TZID=Europe/Paris:20190807T190000
DTEND;TZID=Europe/Paris:20190807T200000
DTSTAMP:20260425T145534
CREATED:20190718T102152Z
LAST-MODIFIED:20190718T102152Z
UID:2913-1565204400-1565208000@vivants.org
SUMMARY:La Chamaille
DESCRIPTION:En plein air : Une trépidante histoire d’amour dans un village abandonné. (replis possible)\nDe : Jean-Jacques Varoujean\nMise en scène : Sophie Courtois\nAvec : Françoise Dasque et Jean-Louis Moisseron
URL:http://vivants.org/evenement/la-chamaille-12/
LOCATION:Gravières\, Gravières
ORGANIZER;CN="Mirlitoons%20cie":MAILTO:mirlitoons@free.fr
END:VEVENT
END:VCALENDAR