BEGIN:VCALENDAR
VERSION:2.0
PRODID:-//VivantS - ECPv5.3.2.1//NONSGML v1.0//EN
CALSCALE:GREGORIAN
METHOD:PUBLISH
X-WR-CALNAME:VivantS
X-ORIGINAL-URL:http://vivants.org
X-WR-CALDESC:évènements pour VivantS
BEGIN:VTIMEZONE
TZID:Europe/Paris
BEGIN:DAYLIGHT
TZOFFSETFROM:+0100
TZOFFSETTO:+0200
TZNAME:CEST
DTSTART:20190331T010000
END:DAYLIGHT
BEGIN:STANDARD
TZOFFSETFROM:+0200
TZOFFSETTO:+0100
TZNAME:CET
DTSTART:20191027T010000
END:STANDARD
END:VTIMEZONE
BEGIN:VEVENT
DTSTART;TZID=Europe/Paris:20190825T190000
DTEND;TZID=Europe/Paris:20190825T200000
DTSTAMP:20260425T163208
CREATED:20190822T104205Z
LAST-MODIFIED:20190822T104205Z
UID:2928-1566759600-1566763200@vivants.org
SUMMARY:La Chamaille
DESCRIPTION:En plein air : Une trépidante histoire d’amour dans un village abandonné.
URL:http://vivants.org/evenement/la-chamaille-15/
LOCATION:Les Vans\, musée
ORGANIZER;CN="Mirlitoons%20cie":MAILTO:mirlitoons@free.fr
END:VEVENT
END:VCALENDAR