BEGIN:VCALENDAR
VERSION:2.0
PRODID:-//VivantS - ECPv5.3.2.1//NONSGML v1.0//EN
CALSCALE:GREGORIAN
METHOD:PUBLISH
X-WR-CALNAME:VivantS
X-ORIGINAL-URL:http://vivants.org
X-WR-CALDESC:évènements pour VivantS
BEGIN:VTIMEZONE
TZID:Europe/Paris
BEGIN:DAYLIGHT
TZOFFSETFROM:+0100
TZOFFSETTO:+0200
TZNAME:CEST
DTSTART:20190331T010000
END:DAYLIGHT
BEGIN:STANDARD
TZOFFSETFROM:+0200
TZOFFSETTO:+0100
TZNAME:CET
DTSTART:20191027T010000
END:STANDARD
END:VTIMEZONE
BEGIN:VEVENT
DTSTART;TZID=Europe/Paris:20190614T180000
DTEND;TZID=Europe/Paris:20190614T190000
DTSTAMP:20260425T210336
CREATED:20190612T145836Z
LAST-MODIFIED:20190612T145836Z
UID:2879-1560535200-1560538800@vivants.org
SUMMARY:La Chamaille
DESCRIPTION:
URL:http://vivants.org/evenement/la-chamaille-3/
LOCATION:Alba la Romaine\, Jardins d'Helvie
END:VEVENT
END:VCALENDAR