BEGIN:VCALENDAR
VERSION:2.0
PRODID:-//VivantS - ECPv5.3.2.1//NONSGML v1.0//EN
CALSCALE:GREGORIAN
METHOD:PUBLISH
X-WR-CALNAME:VivantS
X-ORIGINAL-URL:http://vivants.org
X-WR-CALDESC:évènements pour VivantS
BEGIN:VTIMEZONE
TZID:Europe/Paris
BEGIN:DAYLIGHT
TZOFFSETFROM:+0100
TZOFFSETTO:+0200
TZNAME:CEST
DTSTART:20190331T010000
END:DAYLIGHT
BEGIN:STANDARD
TZOFFSETFROM:+0200
TZOFFSETTO:+0100
TZNAME:CET
DTSTART:20191027T010000
END:STANDARD
END:VTIMEZONE
BEGIN:VEVENT
DTSTART;TZID=Europe/Paris:20190627T200000
DTEND;TZID=Europe/Paris:20190627T210000
DTSTAMP:20260425T192550
CREATED:20190627T093034Z
LAST-MODIFIED:20190627T093034Z
UID:2885-1561665600-1561669200@vivants.org
SUMMARY:La Chamaille
DESCRIPTION:Un village abandonné\, plus que deux voisins\, qui se détestent et se font la vie dure\, multiplient provocations et bravades\, jusqu’à ce que parfois\, la tendresse affleure au cœur de leurs deux solitudes.\ntexte : Jean-Jacques Varoujean\nmise en scène : Sophie Courtois\njeu : Françoise Dasque et Jean-Louis Moisseron
URL:http://vivants.org/evenement/la-chamaille-4/
LOCATION:Lachamp Raphaël
END:VEVENT
END:VCALENDAR