BEGIN:VCALENDAR
VERSION:2.0
PRODID:-//VivantS - ECPv5.3.2.1//NONSGML v1.0//EN
CALSCALE:GREGORIAN
METHOD:PUBLISH
X-WR-CALNAME:VivantS
X-ORIGINAL-URL:http://vivants.org
X-WR-CALDESC:évènements pour VivantS
BEGIN:VTIMEZONE
TZID:Europe/Paris
BEGIN:DAYLIGHT
TZOFFSETFROM:+0100
TZOFFSETTO:+0200
TZNAME:CEST
DTSTART:20190331T010000
END:DAYLIGHT
BEGIN:STANDARD
TZOFFSETFROM:+0200
TZOFFSETTO:+0100
TZNAME:CET
DTSTART:20191027T010000
END:STANDARD
END:VTIMEZONE
BEGIN:VEVENT
DTSTART;TZID=Europe/Paris:20190708T190000
DTEND;TZID=Europe/Paris:20190708T233000
DTSTAMP:20260425T190350
CREATED:20190515T113248Z
LAST-MODIFIED:20190515T113849Z
UID:2808-1562612400-1562628600@vivants.org
SUMMARY:Le P'tit Bal Swing
DESCRIPTION:19h Initiation à la danse Swing : Emilie Blache\n21h : Concert et Bal\nEmilie Blache : initiations\, chant\, claquettes\, danse.\nJean-Pierre Almy : contrebasse\nAntoine Bessy : clarinette\nPierre Achache : guitare\nInspiré de l’époque « l’ère du swing » où musique et danse jazz étaient indissociables\, mêlant initiations aux danses swing\, bal jazz et démonstrations de danses.
URL:http://vivants.org/evenement/le-ptit-bal-swing/
LOCATION:LE PLATEAU SEPT\, Montselgues\, France
CATEGORIES:Bal
END:VEVENT
END:VCALENDAR