BEGIN:VCALENDAR
VERSION:2.0
PRODID:-//VivantS - ECPv5.3.2.1//NONSGML v1.0//EN
CALSCALE:GREGORIAN
METHOD:PUBLISH
X-WR-CALNAME:VivantS
X-ORIGINAL-URL:http://vivants.org
X-WR-CALDESC:évènements pour VivantS
BEGIN:VTIMEZONE
TZID:Europe/Paris
BEGIN:DAYLIGHT
TZOFFSETFROM:+0100
TZOFFSETTO:+0200
TZNAME:CEST
DTSTART:20190331T010000
END:DAYLIGHT
BEGIN:STANDARD
TZOFFSETFROM:+0200
TZOFFSETTO:+0100
TZNAME:CET
DTSTART:20191027T010000
END:STANDARD
END:VTIMEZONE
BEGIN:VEVENT
DTSTART;TZID=Europe/Paris:20190308T203000
DTEND;TZID=Europe/Paris:20190308T220000
DTSTAMP:20260426T062552
CREATED:20180906T072432Z
LAST-MODIFIED:20180906T072432Z
UID:2743-1552077000-1552082400@vivants.org
SUMMARY:LES VENDREDIS du CONTE et des ARTS de la PAROLE / Bifidus Actif
DESCRIPTION:Vendredi 8 Mars 2019 \nBIFIDUS ACTIF EN DUO  \nChansons \nJean-Luc Bernin  \net Jean-Luc Terrisse \n  \nChansons d’humeur\, \nchansons d’humour\, \nchansons d’amour\, \nles influences sont multiples mais le ton est unique\, \nc’est « Bifidus actif » \nqui vous chatouille \nles oreilles \nsans vous les casser.
URL:http://vivants.org/evenement/les-vendredis-du-conte-et-des-arts-de-la-parole-bifidus-actif/
LOCATION:salle de la Lauzière Saint Privat\, rue de la Lauzière\, Sant Privat\, 07200\, France
CATEGORIES:Conte et arts de la Parole
ORGANIZER;CN="AMAC":MAILTO:vendredis-du-conte@amac-parole.com
END:VEVENT
END:VCALENDAR