BEGIN:VCALENDAR
VERSION:2.0
PRODID:-//VivantS - ECPv5.3.2.1//NONSGML v1.0//EN
CALSCALE:GREGORIAN
METHOD:PUBLISH
X-WR-CALNAME:VivantS
X-ORIGINAL-URL:http://vivants.org
X-WR-CALDESC:évènements pour VivantS
BEGIN:VTIMEZONE
TZID:Europe/Paris
BEGIN:DAYLIGHT
TZOFFSETFROM:+0100
TZOFFSETTO:+0200
TZNAME:CEST
DTSTART:20190331T010000
END:DAYLIGHT
BEGIN:STANDARD
TZOFFSETFROM:+0200
TZOFFSETTO:+0100
TZNAME:CET
DTSTART:20191027T010000
END:STANDARD
END:VTIMEZONE
BEGIN:VEVENT
DTSTART;TZID=Europe/Paris:20190607T203000
DTEND;TZID=Europe/Paris:20190607T223000
DTSTAMP:20260426T001328
CREATED:20180906T072650Z
LAST-MODIFIED:20180906T072650Z
UID:2747-1559939400-1559946600@vivants.org
SUMMARY:LES VENDREDIS du CONTE et des ARTS de la PAROLE /  Françoise Sourd
DESCRIPTION:Vendredi 7 Juin 2019 \nFRANÇOISE SOURD \n« Ma Muse » \nSeule en scène \nAprès trois années « d’aventures théâtrales » en Centre hospitalier psychiatrique\, est venue cette envie d’écrire un spectacle pour rendre hommage à celles et ceux qui ont si profondément parlé d’humanité. C’est donc l’histoire d’un Personnage qui décide de quitter un théâtre pour partir en itinérance et inventer sa propre histoire avec sa Muse…
URL:http://vivants.org/evenement/les-vendredis-du-conte-et-des-arts-de-la-parole-francoise-sourd/
LOCATION:salle de la Lauzière Saint Privat\, rue de la Lauzière\, Sant Privat\, 07200\, France
CATEGORIES:Conte et arts de la Parole
ORGANIZER;CN="AMAC":MAILTO:vendredis-du-conte@amac-parole.com
END:VEVENT
END:VCALENDAR