BEGIN:VCALENDAR
VERSION:2.0
PRODID:-//VivantS - ECPv5.3.2.1//NONSGML v1.0//EN
CALSCALE:GREGORIAN
METHOD:PUBLISH
X-WR-CALNAME:VivantS
X-ORIGINAL-URL:http://vivants.org
X-WR-CALDESC:évènements pour VivantS
BEGIN:VTIMEZONE
TZID:Europe/Paris
BEGIN:DAYLIGHT
TZOFFSETFROM:+0100
TZOFFSETTO:+0200
TZNAME:CEST
DTSTART:20190331T010000
END:DAYLIGHT
BEGIN:STANDARD
TZOFFSETFROM:+0200
TZOFFSETTO:+0100
TZNAME:CET
DTSTART:20191027T010000
END:STANDARD
END:VTIMEZONE
BEGIN:VEVENT
DTSTART;TZID=Europe/Paris:20190531T210000
DTEND;TZID=Europe/Paris:20190531T233000
DTSTAMP:20260426T015012
CREATED:20190515T114821Z
LAST-MODIFIED:20190515T114821Z
UID:2821-1559336400-1559345400@vivants.org
SUMMARY:No Vibrato
DESCRIPTION:Ces compositions originales sont unanimement appréciées pour la force et la beauté des mélodies ainsi que pour la qualité des solistes. Les influences sont nombreuses: bebop\, funk\, musique latines\, rythmes impairs\, musique celtique\, flamenco…\nEtienne Richard : piano\, composition\nLieven Venken : batterie\nNicolas L’Herbette : contrebasse\nDaniele Martini : saxophone ténor
URL:http://vivants.org/evenement/no-vibrato/
LOCATION:Gravières – Cour de l’école\, Gravières\, 07140
CATEGORIES:Concert
END:VEVENT
END:VCALENDAR