BEGIN:VCALENDAR
VERSION:2.0
PRODID:-//VivantS - ECPv5.3.2.1//NONSGML v1.0//EN
CALSCALE:GREGORIAN
METHOD:PUBLISH
X-WR-CALNAME:VivantS
X-ORIGINAL-URL:http://vivants.org
X-WR-CALDESC:évènements pour VivantS
BEGIN:VTIMEZONE
TZID:Europe/Paris
BEGIN:DAYLIGHT
TZOFFSETFROM:+0100
TZOFFSETTO:+0200
TZNAME:CEST
DTSTART:20190331T010000
END:DAYLIGHT
BEGIN:STANDARD
TZOFFSETFROM:+0200
TZOFFSETTO:+0100
TZNAME:CET
DTSTART:20191027T010000
END:STANDARD
END:VTIMEZONE
BEGIN:VEVENT
DTSTART;TZID=Europe/Paris:20190718T210000
DTEND;TZID=Europe/Paris:20190718T233000
DTSTAMP:20260426T024825
CREATED:20190515T114136Z
LAST-MODIFIED:20190515T114150Z
UID:2814-1563483600-1563492600@vivants.org
SUMMARY:Nous les humains
DESCRIPTION:One-Woman Show\, Maryvonne Beaune\nPartant de la catastrophe écologique annoncée et de notre inaction consternante\, ce spectacle mêle stand up\, théâtre et danse pour dépeindre une société schizophrène et obscène. Avec un humour décapant\, l’alerte es lancée. On rit\, mais pas que.
URL:http://vivants.org/evenement/nous-les-humains/
LOCATION:LE PLATEAU SEPT\, Montselgues\, France
CATEGORIES:One-Woman Show
END:VEVENT
END:VCALENDAR