BEGIN:VCALENDAR
VERSION:2.0
PRODID:-//VivantS - ECPv5.3.2.1//NONSGML v1.0//EN
CALSCALE:GREGORIAN
METHOD:PUBLISH
X-WR-CALNAME:VivantS
X-ORIGINAL-URL:http://vivants.org
X-WR-CALDESC:évènements pour VivantS
BEGIN:VTIMEZONE
TZID:Europe/Paris
BEGIN:DAYLIGHT
TZOFFSETFROM:+0100
TZOFFSETTO:+0200
TZNAME:CEST
DTSTART:20190331T010000
END:DAYLIGHT
BEGIN:STANDARD
TZOFFSETFROM:+0200
TZOFFSETTO:+0100
TZNAME:CET
DTSTART:20191027T010000
END:STANDARD
END:VTIMEZONE
BEGIN:VEVENT
DTSTART;TZID=Europe/Paris:20190805T190000
DTEND;TZID=Europe/Paris:20190805T233000
DTSTAMP:20260425T175143
CREATED:20190517T162032Z
LAST-MODIFIED:20190517T162843Z
UID:2830-1565031600-1565047800@vivants.org
SUMMARY:Paul Guta Family - Bal Tzigane
DESCRIPTION:à 19 initiation à la danse tzigane : Anne-Juliette Vassort\nà 21h Concert et bal Issue d’une lignée de grands musiciens tziganes\, la famille Guta quitte la Roumanie au début des années 2000 et s’installe en France. Pour ses membres\, leur art est synonyme d’échange\, de dialogue et de liens fraternels au-delà des frontières culturelles et générationnelles.
URL:http://vivants.org/evenement/paul-guta-family-bal-tzigane/
LOCATION:LE PLATEAU SEPT\, Montselgues\, France
CATEGORIES:Bal,Concert,Danse
END:VEVENT
END:VCALENDAR