BEGIN:VCALENDAR
VERSION:2.0
PRODID:-//VivantS - ECPv5.3.2.1//NONSGML v1.0//EN
CALSCALE:GREGORIAN
METHOD:PUBLISH
X-WR-CALNAME:VivantS
X-ORIGINAL-URL:http://vivants.org
X-WR-CALDESC:évènements pour VivantS
BEGIN:VTIMEZONE
TZID:Europe/Paris
BEGIN:DAYLIGHT
TZOFFSETFROM:+0100
TZOFFSETTO:+0200
TZNAME:CEST
DTSTART:20200329T010000
END:DAYLIGHT
BEGIN:STANDARD
TZOFFSETFROM:+0200
TZOFFSETTO:+0100
TZNAME:CET
DTSTART:20201025T010000
END:STANDARD
END:VTIMEZONE
BEGIN:VEVENT
DTSTART;TZID=Europe/Paris:20200814T080000
DTEND;TZID=Europe/Paris:20200823T170000
DTSTAMP:20260424T214807
CREATED:20200714T090117Z
LAST-MODIFIED:20200714T090117Z
UID:3031-1597392000-1598202000@vivants.org
SUMMARY:PAROLES EN FESTIVAL édition spéciale
DESCRIPTION:Du 14 au 23 août 2020 à la fois en Ardèche et à Lyon\, avec 16 artistes associés à l’AMAC pour 14 spectacles de CONTE et MUSIQUE \nDans 9 communes : Alba la Romaine\, Laviolle\, Mercuer\, StDidier sous Aubenas\, St Etienne de Boulogne\, St Joseph des bancs\, Vals les Bains\, Vesseaux. \nAvec les artistes : Thierno Diallo et Robba Biassi-Biassi\, Chloé Gabrielli\, Marius Sawadogo et Tobi Voli\, Ernest Afriyié et Sadoo\, Françoise Diep\, Patrice Tonakpon Toton et Layba Kourouma\, Claire Pantel\, Eric Derrien\, Anne Hengy\, catherine Caillaud\, Daphné Clouzeau et Marc Zuber. \n\n\n\n\n\n\n\n\n\n\n\n\n\n\n\n\n\n\n\n\n\n\n\n\n\n\n\n\n\n\n\n\n\n\n\n\n\n\nNom(obligatoire)\n\n	\n\n\nE-mail(obligatoire)\n\n	\n\n\nSite web\n\n	\n\n\nMessage\n\n	\n	\n		Envoyer		\n		\n		\n	 \n\n\n  \n 
URL:http://vivants.org/evenement/paroles-en-festival-edition-speciale/
LOCATION:Ardèche et Rhône Alpes\, diverses\, 23 communes\, France
CATEGORIES:Conte,Conte et arts de la Parole,musique,Spectacle jeune public
ATTACH;FMTTYPE=image/jpeg:http://vivants.org/wp-content/uploads/2020/07/affiche-PSD-paroles-2020-Finale--scaled.jpg
ORGANIZER;CN="AMAC":MAILTO:vendredis-du-conte@amac-parole.com
END:VEVENT
END:VCALENDAR