BEGIN:VCALENDAR
VERSION:2.0
PRODID:-//VivantS - ECPv5.3.2.1//NONSGML v1.0//EN
CALSCALE:GREGORIAN
METHOD:PUBLISH
X-WR-CALNAME:VivantS
X-ORIGINAL-URL:http://vivants.org
X-WR-CALDESC:évènements pour VivantS
BEGIN:VTIMEZONE
TZID:Europe/Paris
BEGIN:DAYLIGHT
TZOFFSETFROM:+0100
TZOFFSETTO:+0200
TZNAME:CEST
DTSTART:20190331T010000
END:DAYLIGHT
BEGIN:STANDARD
TZOFFSETFROM:+0200
TZOFFSETTO:+0100
TZNAME:CET
DTSTART:20191027T010000
END:STANDARD
END:VTIMEZONE
BEGIN:VEVENT
DTSTART;TZID=Europe/Paris:20190821T210000
DTEND;TZID=Europe/Paris:20190821T233000
DTSTAMP:20260425T132429
CREATED:20190517T163237Z
LAST-MODIFIED:20190517T163237Z
UID:2840-1566421200-1566430200@vivants.org
SUMMARY:La poésie du gérondif
DESCRIPTION:Voici une conférence portant sur la grammaire. Ou plutôt sur les grammaires\, sous la forme d’un voyage anthropologique décalé\, poétique et humoristique dans les grammaires du monde entier. La conférence bouscule les idées reçues et dévoile comment la langue conditionne la pensée.\ntexte : Jean-Pierre Minaudier\nmise en scène : Michel Toman\njeu : Benjamin Knobil
URL:http://vivants.org/evenement/la-poesie-du-gerondif/
LOCATION:LE PLATEAU SEPT\, Montselgues\, France
CATEGORIES:Théâtre
END:VEVENT
END:VCALENDAR