BEGIN:VCALENDAR
VERSION:2.0
PRODID:-//VivantS - ECPv5.3.2.1//NONSGML v1.0//EN
CALSCALE:GREGORIAN
METHOD:PUBLISH
X-WR-CALNAME:VivantS
X-ORIGINAL-URL:http://vivants.org
X-WR-CALDESC:évènements pour VivantS
BEGIN:VTIMEZONE
TZID:Europe/Paris
BEGIN:DAYLIGHT
TZOFFSETFROM:+0100
TZOFFSETTO:+0200
TZNAME:CEST
DTSTART:20190331T010000
END:DAYLIGHT
BEGIN:STANDARD
TZOFFSETFROM:+0200
TZOFFSETTO:+0100
TZNAME:CET
DTSTART:20191027T010000
END:STANDARD
END:VTIMEZONE
BEGIN:VEVENT
DTSTART;TZID=Europe/Paris:20190825T210000
DTEND;TZID=Europe/Paris:20190825T233000
DTSTAMP:20260425T132635
CREATED:20190517T163505Z
LAST-MODIFIED:20190517T163505Z
UID:2842-1566766800-1566775800@vivants.org
SUMMARY:La seconde femme
DESCRIPTION:Une jeune femme est retrouvée morte devant l’entrée d’un théâtre. Deux femmes témoigneront du même événement\, dans deux pièces distinctes montées en diptyque et dont voici le premier volet. Construite comme un roman policier\, on démêle les faits au fur et à mesure\, en se promenant dans l’inconscient du témoin.\ntexte et jeu : Louise Roch\nmise en scène : Louise Roch et Valentin L’Herminier
URL:http://vivants.org/evenement/la-seconde-femme/
LOCATION:LE PLATEAU SEPT\, Montselgues\, France
CATEGORIES:Théâtre
END:VEVENT
END:VCALENDAR